BEGIN:VCALENDAR
VERSION:2.0
PRODID:-//104.152.168.27//NONSGML kigkonsult.se iCalcreator 2.20//
CALSCALE:GREGORIAN
METHOD:PUBLISH
X-WR-TIMEZONE:Asia/Tokyo
BEGIN:VEVENT
UID:event39507@Tokyo Gig Guide
DTSTAMP:20260420T112735Z
CATEGORIES:Acoustic\, Ambient\, Avant garde\, Classical\, Minimal
DESCRIPTION:Taizo Hida Works Marathon Concert\nCategory: Acoustic\, Ambient
 \, Avant garde\, Classical\, Minimal\nLink: https://www.tokyogigguide.com/
 index.php?option=com_jem&view=event&id=39507:taizo-hida-works-marathon-con
 cert\n
DTSTART:20260523T130000
DTEND:20260523T130000
LOCATION:Ryogoku Monten Hall\,1-3-9 Ryogoku\, Sumida-ku  Tokyo \,Ryogoku
SUMMARY:Taizo Hida Works Marathon Concert
URL:https://www.tokyogigguide.com/index.php?option=com_jem&view=event&id=39
 507:taizo-hida-works-marathon-concert
END:VEVENT
END:VCALENDAR
