BEGIN:VCALENDAR
VERSION:2.0
PRODID:-//104.152.168.27//NONSGML kigkonsult.se iCalcreator 2.20//
CALSCALE:GREGORIAN
METHOD:PUBLISH
X-WR-TIMEZONE:Asia/Tokyo
BEGIN:VEVENT
UID:event40640@Tokyo Gig Guide
DTSTAMP:20260420T115638Z
CATEGORIES:Experimental\, Festival\, Ambient
DESCRIPTION:Masayoshi Fujita Inoyama Land\, パラグナ・グループ\, Ayami Suzuki + 多田正美
 \, Tatsuro Murakami Organic Drone Society\nCategory: Experimental\, Festiv
 al\, Ambient\nLink: https://www.tokyogigguide.com/index.php?option=com_jem
 &view=event&id=40640:masayoshi-fujita-inoyama-land-ayami-suzuki-tatsuro-mu
 rakami-band-set-sax-shin-araki-bass-tyler-eato\n
DTSTART:20260510T150000
DTEND:20260510T150000
SUMMARY:Masayoshi Fujita Inoyama Land\, パラグナ・グループ\, Ayami Suzuki + 多田正美\, T
 atsuro Murakami Organic Drone Society
URL:https://www.tokyogigguide.com/index.php?option=com_jem&view=event&id=40
 640:masayoshi-fujita-inoyama-land-ayami-suzuki-tatsuro-murakami-band-set-s
 ax-shin-araki-bass-tyler-eato
END:VEVENT
END:VCALENDAR
