BEGIN:VCALENDAR
VERSION:2.0
PRODID:-//104.152.168.27//NONSGML kigkonsult.se iCalcreator 2.20//
CALSCALE:GREGORIAN
METHOD:PUBLISH
X-WR-TIMEZONE:Asia/Tokyo
BEGIN:VEVENT
UID:event40662@Tokyo Gig Guide
DTSTAMP:20260424T085954Z
CATEGORIES:Avant-pop\, Experimental\, Improvised\, Jazz\, Progressive
DESCRIPTION:Miyako Trio (Miyako Kanazawa\, Yoshiharu Izutsu\, Masahiro Uemu
 ra)\, ekuperi (ochoco\, Yukio\, Jun Ono\, Koichi Kitazawa\, Taka)\nCategor
 y: Avant-pop\, Experimental\, Improvised\, Jazz\, Progressive\nLink: https
 ://www.tokyogigguide.com/index.php?option=com_jem&view=event&id=40662:nigh
 t-road-with-flowers-bloom\n
DTSTART:20260530T190000
DTEND:20260530T190000
LOCATION:Ten (天)\,Asagaya-kita 2-1-5 B1F\,Asagaya
SUMMARY:Miyako Trio (Miyako Kanazawa\, Yoshiharu Izutsu\, Masahiro Uemura)\
 , ekuperi (ochoco\, Yukio\, Jun Ono\, Koichi Kitazawa\, Taka)
URL:https://www.tokyogigguide.com/index.php?option=com_jem&view=event&id=40
 662:night-road-with-flowers-bloom
END:VEVENT
END:VCALENDAR
