BEGIN:VCALENDAR
VERSION:2.0
PRODID:-//104.152.168.27//NONSGML kigkonsult.se iCalcreator 2.20//
CALSCALE:GREGORIAN
METHOD:PUBLISH
X-WR-TIMEZONE:Asia/Tokyo
BEGIN:VEVENT
UID:event40705@Tokyo Gig Guide
DTSTAMP:20260421T135720Z
CATEGORIES:Improvised\, Acoustic
DESCRIPTION:Izumi Kimura Gerry Hemingway\nCategory: Improvised\, Acoustic\n
 Link: https://www.tokyogigguide.com/index.php?option=com_jem&view=event&id
 =40705:izumi-kimura-gerry-hemingway\n
DTSTART:20260430T190000
DTEND:20260430T190000
LOCATION:Ryogoku Monten Hall\,1-3-9 Ryogoku\, Sumida-ku  Tokyo \,Ryogoku
SUMMARY:Izumi Kimura Gerry Hemingway
URL:https://www.tokyogigguide.com/index.php?option=com_jem&view=event&id=40
 705:izumi-kimura-gerry-hemingway
END:VEVENT
END:VCALENDAR
