BEGIN:VCALENDAR
VERSION:2.0
PRODID:-//104.152.168.27//NONSGML kigkonsult.se iCalcreator 2.20//
CALSCALE:GREGORIAN
METHOD:PUBLISH
X-WR-TIMEZONE:Asia/Tokyo
BEGIN:VEVENT
UID:event40709@Tokyo Gig Guide
DTSTAMP:20260424T094818Z
CATEGORIES:Avant garde\, Electro\, Free Jazz\, Improvised\, Instrumental
DESCRIPTION:Atsuhiro Ito + Junji Hirose + Yoshinori Mochizuki + Masahiro Ue
 mura\nCategory: Avant garde\, Electro\, Free Jazz\, Improvised\, Instrumen
 tal\nLink: https://www.tokyogigguide.com/index.php?option=com_jem&view=eve
 nt&id=40709:atsuhiro-ito-junji-hirose-yoshinori-mochizuki-masahiro-uemura
 \n
DTSTART:20260525T183000
DTEND:20260525T183000
LOCATION:Shishio (獅子王)\,B1\, 2-3-3 Sugamo\, Toshima\, Tokyo\,Sugamo
SUMMARY:Atsuhiro Ito + Junji Hirose + Yoshinori Mochizuki + Masahiro Uemura
URL:https://www.tokyogigguide.com/index.php?option=com_jem&view=event&id=40
 709:atsuhiro-ito-junji-hirose-yoshinori-mochizuki-masahiro-uemura
END:VEVENT
END:VCALENDAR
