BEGIN:VCALENDAR
VERSION:2.0
PRODID:-//104.152.168.27//NONSGML kigkonsult.se iCalcreator 2.20//
CALSCALE:GREGORIAN
METHOD:PUBLISH
X-WR-TIMEZONE:Asia/Tokyo
BEGIN:VEVENT
UID:event39922@Tokyo Gig Guide
DTSTAMP:20260422T123509Z
CATEGORIES:Abstract\, Ambient\, Experimental\, Folk\, Indie
DESCRIPTION:Oliver Yoshito\, テューンズ (原田仁 + Anna Yamada)\, 三つ子の魂\, ︎HASAMI\, 
 風録\nCategory: Abstract\, Ambient\, Experimental\, Folk\, Indie\nLink: http
 s://www.tokyogigguide.com/index.php?option=com_jem&view=event&id=39922:oli
 ver-yoshito-duo-gendry-loic-kim-sun-ki-from-france-anna-yamada-hasami\n
DTSTART:20260425T180000
DTEND:20260425T180000
LOCATION:mogumogu\,3F\, 1-36-15 Asagaya-Minami\, Suginami-ku\,Asagaya\,Japa
 n
SUMMARY:Oliver Yoshito\, テューンズ (原田仁 + Anna Yamada)\, 三つ子の魂\, ︎HASAMI\, 風録
URL:https://www.tokyogigguide.com/index.php?option=com_jem&view=event&id=39
 922:oliver-yoshito-duo-gendry-loic-kim-sun-ki-from-france-anna-yamada-hasa
 mi
END:VEVENT
BEGIN:VEVENT
UID:event40629@Tokyo Gig Guide
DTSTAMP:20260422T123509Z
CATEGORIES:Ambient\, Avant garde\, Experimental\, Industrial\, Psychedelic
DESCRIPTION:Radio Ensembles Aiida\, Yuma Takeshita\, PUNSUCA\, Ubatama\nCat
 egory: Ambient\, Avant garde\, Experimental\, Industrial\, Psychedelic\nLi
 nk: https://www.tokyogigguide.com/index.php?option=com_jem&view=event&id=4
 0629:radio-ensembles-aiida-yuma-takeshita-punsuca-ubatama\n
DTSTART:20260426T140000
DTEND:20260426T140000
LOCATION:mogumogu\,3F\, 1-36-15 Asagaya-Minami\, Suginami-ku\,Asagaya\,Japa
 n
SUMMARY:Radio Ensembles Aiida\, Yuma Takeshita\, PUNSUCA\, Ubatama
URL:https://www.tokyogigguide.com/index.php?option=com_jem&view=event&id=40
 629:radio-ensembles-aiida-yuma-takeshita-punsuca-ubatama
END:VEVENT
BEGIN:VEVENT
UID:event40739@Tokyo Gig Guide
DTSTAMP:20260422T123509Z
CATEGORIES:Garage Rock\, Psychedelic\, Psych-Folk
DESCRIPTION:los doroncos / Kasagami feat. Mitsuru Tabata + Koji Shimura / K
 azuo Tsubouchi feat. Mitsuru Tabata + Koji Shimura\nCategory: Garage Rock\
 , Psychedelic\, Psych-Folk\nLink: https://www.tokyogigguide.com/index.php?
 option=com_jem&view=event&id=40739:los-doroncos-kasagami-feat-mitsuru-taba
 ta-koji-shimura-kazuo-tsubouchi-feat-mitsuru-tabata-koji-shimura\n
DTSTART:20260426T190000
DTEND:20260426T190000
LOCATION:mogumogu\,3F\, 1-36-15 Asagaya-Minami\, Suginami-ku\,Asagaya\,Japa
 n
SUMMARY:los doroncos / Kasagami feat. Mitsuru Tabata + Koji Shimura / Kazuo
  Tsubouchi feat. Mitsuru Tabata + Koji Shimura
URL:https://www.tokyogigguide.com/index.php?option=com_jem&view=event&id=40
 739:los-doroncos-kasagami-feat-mitsuru-tabata-koji-shimura-kazuo-tsubouchi
 -feat-mitsuru-tabata-koji-shimura
END:VEVENT
BEGIN:VEVENT
UID:event40582@Tokyo Gig Guide
DTSTAMP:20260422T123509Z
CATEGORIES:Ambient\, Noise
DESCRIPTION:m.hajime\, 虫野十九\, キッチュ一人楽団\, P.O.V.\nCategory: Ambient\, Noise
 \nLink: https://www.tokyogigguide.com/index.php?option=com_jem&view=event&
 id=40582:m-hajime-p-o-v\n
DTSTART:20260508T190000
DTEND:20260508T190000
LOCATION:mogumogu\,3F\, 1-36-15 Asagaya-Minami\, Suginami-ku\,Asagaya\,Japa
 n
SUMMARY:m.hajime\, 虫野十九\, キッチュ一人楽団\, P.O.V.
URL:https://www.tokyogigguide.com/index.php?option=com_jem&view=event&id=40
 582:m-hajime-p-o-v
END:VEVENT
BEGIN:VEVENT
UID:event40284@Tokyo Gig Guide
DTSTAMP:20260422T123509Z
CATEGORIES:Experimental\, Improvised\, Other\, Psychedelic\, Psych-Folk
DESCRIPTION:spirifer spiral\, VAALBARA (from 京都)\, Mike Matuszak\nCategory:
  Experimental\, Improvised\, Other\, Psychedelic\, Psych-Folk\nLink: https
 ://www.tokyogigguide.com/index.php?option=com_jem&view=event&id=40284:spir
 ifer-spiral-vaalbara-from-mike-matuszak\n
DTSTART:20260606T181500
DTEND:20260606T181500
LOCATION:mogumogu\,3F\, 1-36-15 Asagaya-Minami\, Suginami-ku\,Asagaya\,Japa
 n
SUMMARY:spirifer spiral\, VAALBARA (from 京都)\, Mike Matuszak
URL:https://www.tokyogigguide.com/index.php?option=com_jem&view=event&id=40
 284:spirifer-spiral-vaalbara-from-mike-matuszak
END:VEVENT
BEGIN:VEVENT
UID:event38422@Tokyo Gig Guide
DTSTAMP:20260422T123509Z
CATEGORIES:Art-Pop\, Avant garde\, Pop-punk\, Punk\, Rock
DESCRIPTION:トゥインクループ (TWINKLOOP)\, ブラウン管\, 夜光虫\, ソラトブ\nCategory: Art-Pop\, 
 Avant garde\, Pop-punk\, Punk\, Rock\nLink: https://www.tokyogigguide.com/
 index.php?option=com_jem&view=event&id=38422:twinkloop\n
DTSTART:20260906T190000
DTEND:20260906T190000
LOCATION:mogumogu\,3F\, 1-36-15 Asagaya-Minami\, Suginami-ku\,Asagaya\,Japa
 n
SUMMARY:トゥインクループ (TWINKLOOP)\, ブラウン管\, 夜光虫\, ソラトブ
URL:https://www.tokyogigguide.com/index.php?option=com_jem&view=event&id=38
 422:twinkloop
END:VEVENT
END:VCALENDAR
