BEGIN:VCALENDAR
VERSION:2.0
PRODID:-//104.152.168.27//NONSGML kigkonsult.se iCalcreator 2.20//
CALSCALE:GREGORIAN
METHOD:PUBLISH
X-WR-TIMEZONE:Asia/Tokyo
BEGIN:VEVENT
UID:event40700@Tokyo Gig Guide
DTSTAMP:20260424T203746Z
CATEGORIES:Avant garde\, Experimental\, Free Jazz\, Improvised\, Jam
DESCRIPTION:Free Form Jam\nCategory: Avant garde\, Experimental\, Free Jazz
 \, Improvised\, Jam\nLink: https://www.tokyogigguide.com/index.php?option=
 com_jem&view=event&id=40700:free-form-jam\n
DTSTART:20260512T183000
DTEND:20260512T183000
LOCATION:Buddy\,Nerima Asahigaoka 1-77-8 Futaba Hall B2F \,Ekoda
SUMMARY:Free Form Jam
URL:https://www.tokyogigguide.com/index.php?option=com_jem&view=event&id=40
 700:free-form-jam
END:VEVENT
BEGIN:VEVENT
UID:event40605@Tokyo Gig Guide
DTSTAMP:20260424T203746Z
CATEGORIES:Abstract\, Improvised\, Instrumental\, Jam
DESCRIPTION:Kaoru Nishimura (cl)\, Kousei Murata (tb)\nCategory: Abstract\,
  Improvised\, Instrumental\, Jam\nLink: https://www.tokyogigguide.com/inde
 x.php?option=com_jem&view=event&id=40605:kaoru-nishimura-cl-kousei-murata-
 tb\n
DTSTART:20260528T183000
DTEND:20260528T183000
LOCATION:Buddy\,Nerima Asahigaoka 1-77-8 Futaba Hall B2F \,Ekoda
SUMMARY:Kaoru Nishimura (cl)\, Kousei Murata (tb)
URL:https://www.tokyogigguide.com/index.php?option=com_jem&view=event&id=40
 605:kaoru-nishimura-cl-kousei-murata-tb
END:VEVENT
BEGIN:VEVENT
UID:event40597@Tokyo Gig Guide
DTSTAMP:20260424T203746Z
CATEGORIES:Alternative\, Avant garde\, Experimental\, Improvised
DESCRIPTION:eternal immortality: Shoji Hano\, Tatsuya Yoshida\, Kentaro Nak
 ao\, Mitsuru Tabata\, Ippei Kato\, Shinpei Ruike\, Junji Hirose\nCategory:
  Alternative\, Avant garde\, Experimental\, Improvised\nLink: https://www.
 tokyogigguide.com/index.php?option=com_jem&view=event&id=40597:eternal-imm
 ortality-shoji-hano-tatsuya-yoshida-kentaro-nakao-mitsuru-tabata-ippei-kat
 o-shinpei-ruike-junji-hirose\n
DTSTART:20260622T190000
DTEND:20260622T190000
LOCATION:Buddy\,Nerima Asahigaoka 1-77-8 Futaba Hall B2F \,Ekoda
SUMMARY:eternal immortality: Shoji Hano\, Tatsuya Yoshida\, Kentaro Nakao\,
  Mitsuru Tabata\, Ippei Kato\, Shinpei Ruike\, Junji Hirose
URL:https://www.tokyogigguide.com/index.php?option=com_jem&view=event&id=40
 597:eternal-immortality-shoji-hano-tatsuya-yoshida-kentaro-nakao-mitsuru-t
 abata-ippei-kato-shinpei-ruike-junji-hirose
END:VEVENT
END:VCALENDAR
