BEGIN:VCALENDAR
VERSION:2.0
PRODID:-//104.152.168.27//NONSGML kigkonsult.se iCalcreator 2.20//
CALSCALE:GREGORIAN
METHOD:PUBLISH
X-WR-TIMEZONE:Asia/Tokyo
BEGIN:VEVENT
UID:event40263@Tokyo Gig Guide
DTSTAMP:20260421T142646Z
CATEGORIES:Death Metal\, Grindcore
DESCRIPTION:NAPALM DEATH\, Thirsty\, 0.001DAY\nCategory: Death Metal\, Grin
 dcore\nLink: https://www.tokyogigguide.com/index.php?option=com_jem&view=e
 vent&id=40263:napalm-death-thirsty-0-001day\n
DTSTART:20260429T170000
DTEND:20260429T170000
LOCATION:Earthdom\,Lisbon Bldg B1F\, 3-32-3 Okubo\, Shinjuku-ku\,Okubo
SUMMARY:NAPALM DEATH\, Thirsty\, 0.001DAY
URL:https://www.tokyogigguide.com/index.php?option=com_jem&view=event&id=40
 263:napalm-death-thirsty-0-001day
END:VEVENT
BEGIN:VEVENT
UID:event40727@Tokyo Gig Guide
DTSTAMP:20260421T142646Z
CATEGORIES:Free Jazz
DESCRIPTION:TERRIE EX . PAAL NILSSEN-LOVE\nCategory: Free Jazz\nLink: https
 ://www.tokyogigguide.com/index.php?option=com_jem&view=event&id=40727:terr
 ie-ex-paal-nilssen-love\n
DTSTART:20260509T193000
DTEND:20260509T193000
LOCATION:Earthdom\,Lisbon Bldg B1F\, 3-32-3 Okubo\, Shinjuku-ku\,Okubo
SUMMARY:TERRIE EX . PAAL NILSSEN-LOVE
URL:https://www.tokyogigguide.com/index.php?option=com_jem&view=event&id=40
 727:terrie-ex-paal-nilssen-love
END:VEVENT
BEGIN:VEVENT
UID:event40476@Tokyo Gig Guide
DTSTAMP:20260421T142646Z
CATEGORIES:Doom\, Minimal\, Noise\, Psychedelic
DESCRIPTION:ANKURAH\nCategory: Doom\, Minimal\, Noise\, Psychedelic\nLink: 
 https://www.tokyogigguide.com/index.php?option=com_jem&view=event&id=40476
 :ankurah\n
DTSTART:20260520T183000
DTEND:20260520T183000
LOCATION:Earthdom\,Lisbon Bldg B1F\, 3-32-3 Okubo\, Shinjuku-ku\,Okubo
SUMMARY:ANKURAH
URL:https://www.tokyogigguide.com/index.php?option=com_jem&view=event&id=40
 476:ankurah
END:VEVENT
BEGIN:VEVENT
UID:event40708@Tokyo Gig Guide
DTSTAMP:20260421T142646Z
CATEGORIES:Avant garde\, Electro\, Free Jazz\, Improvised\, Instrumental
DESCRIPTION:Atsuhiro Ito - Yoshinori Mochizuki - Masahiro Uemura\nCategory:
  Avant garde\, Electro\, Free Jazz\, Improvised\, Instrumental\nLink: http
 s://www.tokyogigguide.com/index.php?option=com_jem&view=event&id=40708:ats
 uhiro-ito-yoshinori-mochizuki-masahiro-uemura\n
DTSTART:20260520T190000
DTEND:20260520T190000
LOCATION:Earthdom\,Lisbon Bldg B1F\, 3-32-3 Okubo\, Shinjuku-ku\,Okubo
SUMMARY:Atsuhiro Ito - Yoshinori Mochizuki - Masahiro Uemura
URL:https://www.tokyogigguide.com/index.php?option=com_jem&view=event&id=40
 708:atsuhiro-ito-yoshinori-mochizuki-masahiro-uemura
END:VEVENT
BEGIN:VEVENT
UID:event40710@Tokyo Gig Guide
DTSTAMP:20260421T142646Z
CATEGORIES:Avant garde\, Free Jazz\, Hardcore\, Improvised\, Instrumental
DESCRIPTION:Kazuo Imai - Yoshinori Mochizuki - Masahiro Uemura\nCategory: A
 vant garde\, Free Jazz\, Hardcore\, Improvised\, Instrumental\nLink: https
 ://www.tokyogigguide.com/index.php?option=com_jem&view=event&id=40710:kazu
 o-imai-yoshinori-mochizuki-masahiro-uemura\n
DTSTART:20260603T190000
DTEND:20260603T190000
LOCATION:Earthdom\,Lisbon Bldg B1F\, 3-32-3 Okubo\, Shinjuku-ku\,Okubo
SUMMARY:Kazuo Imai - Yoshinori Mochizuki - Masahiro Uemura
URL:https://www.tokyogigguide.com/index.php?option=com_jem&view=event&id=40
 710:kazuo-imai-yoshinori-mochizuki-masahiro-uemura
END:VEVENT
BEGIN:VEVENT
UID:event40713@Tokyo Gig Guide
DTSTAMP:20260421T142646Z
CATEGORIES:Avant garde\, Free Jazz\, Hardcore\, Improvised\, Instrumental
DESCRIPTION:Kazuo Imai - Yoshinori Mochizuki - Masahiro Uemura\nCategory: A
 vant garde\, Free Jazz\, Hardcore\, Improvised\, Instrumental\nLink: https
 ://www.tokyogigguide.com/index.php?option=com_jem&view=event&id=40713:kazu
 o-imai-yoshinori-mochizuki-masahiro-uemura\n
DTSTART:20260701T190000
DTEND:20260701T190000
LOCATION:Earthdom\,Lisbon Bldg B1F\, 3-32-3 Okubo\, Shinjuku-ku\,Okubo
SUMMARY:Kazuo Imai - Yoshinori Mochizuki - Masahiro Uemura
URL:https://www.tokyogigguide.com/index.php?option=com_jem&view=event&id=40
 713:kazuo-imai-yoshinori-mochizuki-masahiro-uemura
END:VEVENT
END:VCALENDAR
