BEGIN:VCALENDAR
VERSION:2.0
PRODID:-//104.152.168.27//NONSGML kigkonsult.se iCalcreator 2.20//
CALSCALE:GREGORIAN
METHOD:PUBLISH
X-WR-TIMEZONE:Asia/Tokyo
BEGIN:VEVENT
UID:event39997@Tokyo Gig Guide
DTSTAMP:20260420T165312Z
CATEGORIES:Instrumental\, Experimental
DESCRIPTION:hamachi (Percussion)\, Fumi Endo (遠藤ふみ) (Piano)\, Kanon Aonami 
 (蒼波花音)\, Takumi Ikeda (池田拓実)\, Itoken (イトケン) (Composers)\nCategory: Instru
 mental\, Experimental\nLink: https://www.tokyogigguide.com/index.php?optio
 n=com_jem&view=event&id=39997:hamachi-percussion-fumi-endo-piano-kanon-aon
 ami-takumi-ikeda-itoken-composers\n
DTSTART:20260425T193000
DTEND:20260425T193000
LOCATION:Ftarri\,Okano Bld.B1\, 1-4-11\, Hongo\, Bunkyo-ku\, Tokyo\,Suidoba
 shi
SUMMARY:hamachi (Percussion)\, Fumi Endo (遠藤ふみ) (Piano)\, Kanon Aonami (蒼波花
 音)\, Takumi Ikeda (池田拓実)\, Itoken (イトケン) (Composers)
URL:https://www.tokyogigguide.com/index.php?option=com_jem&view=event&id=39
 997:hamachi-percussion-fumi-endo-piano-kanon-aonami-takumi-ikeda-itoken-co
 mposers
END:VEVENT
BEGIN:VEVENT
UID:event40356@Tokyo Gig Guide
DTSTAMP:20260420T165312Z
CATEGORIES:Experimental\, Improvised\, Instrumental\, Other\, Unclassifiabl
 e
DESCRIPTION:Kokichi Yanagisawa\, Shibatetsu\, Tetuzi Akiyama\nCategory: Exp
 erimental\, Improvised\, Instrumental\, Other\, Unclassifiable\nLink: http
 s://www.tokyogigguide.com/index.php?option=com_jem&view=event&id=40356:kok
 ichi-yanagisawa-shibatetsu-tetuzi-akiyama\n
DTSTART:20260427T193000
DTEND:20260427T193000
LOCATION:Ftarri\,Okano Bld.B1\, 1-4-11\, Hongo\, Bunkyo-ku\, Tokyo\,Suidoba
 shi
SUMMARY:Kokichi Yanagisawa\, Shibatetsu\, Tetuzi Akiyama
URL:https://www.tokyogigguide.com/index.php?option=com_jem&view=event&id=40
 356:kokichi-yanagisawa-shibatetsu-tetuzi-akiyama
END:VEVENT
BEGIN:VEVENT
UID:event40482@Tokyo Gig Guide
DTSTAMP:20260420T165312Z
CATEGORIES:Noise\, Improvised\, Experimental
DESCRIPTION:Toshimaru Nakamura\, Kayu Nakada\, Yuma Takeshita\nCategory: No
 ise\, Improvised\, Experimental\nLink: https://www.tokyogigguide.com/index
 .php?option=com_jem&view=event&id=40482:toshimaru-nakamura-kayu-nakada-yum
 a-takeshita\n
DTSTART:20260502T193000
DTEND:20260502T193000
LOCATION:Ftarri\,Okano Bld.B1\, 1-4-11\, Hongo\, Bunkyo-ku\, Tokyo\,Suidoba
 shi
SUMMARY:Toshimaru Nakamura\, Kayu Nakada\, Yuma Takeshita
URL:https://www.tokyogigguide.com/index.php?option=com_jem&view=event&id=40
 482:toshimaru-nakamura-kayu-nakada-yuma-takeshita
END:VEVENT
BEGIN:VEVENT
UID:event40575@Tokyo Gig Guide
DTSTAMP:20260420T165312Z
CATEGORIES:Experimental
DESCRIPTION:CARL STONE & ASUNA\nCategory: Experimental\nLink: https://www.t
 okyogigguide.com/index.php?option=com_jem&view=event&id=40575:carl-stone-a
 suna\n
DTSTART:20260517T190000
DTEND:20260517T190000
LOCATION:Ftarri\,Okano Bld.B1\, 1-4-11\, Hongo\, Bunkyo-ku\, Tokyo\,Suidoba
 shi
SUMMARY:CARL STONE & ASUNA
URL:https://www.tokyogigguide.com/index.php?option=com_jem&view=event&id=40
 575:carl-stone-asuna
END:VEVENT
BEGIN:VEVENT
UID:event39635@Tokyo Gig Guide
DTSTAMP:20260420T165312Z
CATEGORIES:Acoustic\, Avant garde\, Classical\, Electronic\, Experimental
DESCRIPTION:Showdown!! Violin vs. Horn vs. Electronics (piano)\nCategory: A
 coustic\, Avant garde\, Classical\, Electronic\, Experimental\nLink: https
 ://www.tokyogigguide.com/index.php?option=com_jem&view=event&id=39635:show
 down-violin-vs-horn-vs-electronics-piano-ftarri\n
DTSTART:20260530T193000
DTEND:20260530T193000
LOCATION:Ftarri\,Okano Bld.B1\, 1-4-11\, Hongo\, Bunkyo-ku\, Tokyo\,Suidoba
 shi
SUMMARY:Showdown!! Violin vs. Horn vs. Electronics (piano)
URL:https://www.tokyogigguide.com/index.php?option=com_jem&view=event&id=39
 635:showdown-violin-vs-horn-vs-electronics-piano-ftarri
END:VEVENT
BEGIN:VEVENT
UID:event40606@Tokyo Gig Guide
DTSTAMP:20260420T165312Z
CATEGORIES:Alternative\, Avant garde\, Experimental\, Improvised\, Progress
 ive\, World
DESCRIPTION:Yumiko Tanaka\, Gaku Yamada\nCategory: Alternative\, Avant gard
 e\, Experimental\, Improvised\, Progressive\, World\nLink: https://www.tok
 yogigguide.com/index.php?option=com_jem&view=event&id=40606:yumiko-tanaka-
 gaku-yamada\n
DTSTART:20260531T193000
DTEND:20260531T193000
LOCATION:Ftarri\,Okano Bld.B1\, 1-4-11\, Hongo\, Bunkyo-ku\, Tokyo\,Suidoba
 shi
SUMMARY:Yumiko Tanaka\, Gaku Yamada
URL:https://www.tokyogigguide.com/index.php?option=com_jem&view=event&id=40
 606:yumiko-tanaka-gaku-yamada
END:VEVENT
END:VCALENDAR
