BEGIN:VCALENDAR
VERSION:2.0
PRODID:-//104.152.168.27//NONSGML kigkonsult.se iCalcreator 2.20//
CALSCALE:GREGORIAN
METHOD:PUBLISH
X-WR-TIMEZONE:Asia/Tokyo
BEGIN:VEVENT
UID:event1057@Tokyo Gig Guide
DTSTAMP:20260423T033058Z
CATEGORIES:Hardcore
DESCRIPTION:BLACK COBRA (USA) w/ Melt Banana Lite\, Coffins\, Terror Squad\
 , Barebones\nCategory: Hardcore\nLink: https://www.tokyogigguide.com/index
 .php?option=com_jem&view=event&id=1057:black-cobra-usa-w-coffins-terror-sq
 uad-barebones--more&Itemid=1094\n
DTSTART:20090927T180000
DTEND:20090927T180000
LOCATION:Earthdom\,Lisbon Bldg B1F\, 3-32-3 Okubo\, Shinjuku-ku\,Okubo
SUMMARY:BLACK COBRA (USA) w/ Melt Banana Lite\, Coffins\, Terror Squad\, Ba
 rebones
URL:https://www.tokyogigguide.com/index.php?option=com_jem&view=event&id=10
 57:black-cobra-usa-w-coffins-terror-squad-barebones--more&Itemid=1094
END:VEVENT
END:VCALENDAR
