BEGIN:VCALENDAR
VERSION:2.0
PRODID:-//104.152.168.27//NONSGML kigkonsult.se iCalcreator 2.20//
CALSCALE:GREGORIAN
METHOD:PUBLISH
X-WR-TIMEZONE:Asia/Tokyo
BEGIN:VEVENT
UID:event10648@Tokyo Gig Guide
DTSTAMP:20260422T030051Z
CATEGORIES:Blues
DESCRIPTION:Rob Stone (Blues singer & harmonica player) from Chicago\nCateg
 ory: Blues\nLink: https://www.tokyogigguide.com/index.php?option=com_jem&v
 iew=event&id=10648:rob-stone-blues-singer-a-harmonica-player-from-chicago&
 Itemid=1094\n
DTSTART:20140815T183000
DTEND:20140815T183000
LOCATION:Jirokichi\,Koenji Bldg B1\, 2-3-4 Koenji-kita\,Koenji
SUMMARY:Rob Stone (Blues singer & harmonica player) from Chicago
URL:https://www.tokyogigguide.com/index.php?option=com_jem&view=event&id=10
 648:rob-stone-blues-singer-a-harmonica-player-from-chicago&Itemid=1094
END:VEVENT
END:VCALENDAR
