BEGIN:VCALENDAR
VERSION:2.0
PRODID:-//104.152.168.27//NONSGML kigkonsult.se iCalcreator 2.20//
CALSCALE:GREGORIAN
METHOD:PUBLISH
X-WR-TIMEZONE:Asia/Tokyo
BEGIN:VEVENT
UID:event11220@Tokyo Gig Guide
DTSTAMP:20260424T072244Z
CATEGORIES:Indie-Rock
DESCRIPTION:Icon Girl Pistols\, Yoru ha Mijikashi\, The Goood Things\, Midn
 ight Moon Theater\nCategory: Indie-Rock\nLink: https://www.tokyogigguide.c
 om/index.php?option=com_jem&view=event&id=11220:icon-girl-pistols-yoru-ha-
 mijikashi-the-goood-things-midnight-moon-theater&Itemid=1094\n
DTSTART:20141206T193000
DTEND:20141206T193000
LOCATION:NOB\,Maruyamacho 1-3 BF\, Shibuya-ku\,Shibuya
SUMMARY:Icon Girl Pistols\, Yoru ha Mijikashi\, The Goood Things\, Midnight
  Moon Theater
URL:https://www.tokyogigguide.com/index.php?option=com_jem&view=event&id=11
 220:icon-girl-pistols-yoru-ha-mijikashi-the-goood-things-midnight-moon-the
 ater&Itemid=1094
END:VEVENT
END:VCALENDAR
