BEGIN:VCALENDAR
VERSION:2.0
PRODID:-//104.152.168.27//NONSGML kigkonsult.se iCalcreator 2.20//
CALSCALE:GREGORIAN
METHOD:PUBLISH
X-WR-TIMEZONE:Asia/Tokyo
BEGIN:VEVENT
UID:event11542@Tokyo Gig Guide
DTSTAMP:20260423T181901Z
CATEGORIES:Blues
DESCRIPTION:Valentines Blues: Yo Tokunaga\, CK & Friends\, JBQ & the Bounci
 ng Hep Cats\nCategory: Blues\nLink: https://www.tokyogigguide.com/index.ph
 p?option=com_jem&view=event&id=11542:valentines-blues-for-lonely-folks-&It
 emid=1094\n
DTSTART:20150214T190000
DTEND:20150214T190000
LOCATION:Giee\,Sanko Bldg. Ba\, 2-3-9 Honmachi\, Kokubunji\, Tokyo\,Kokubun
 ji
SUMMARY:Valentines Blues: Yo Tokunaga\, CK & Friends\, JBQ & the Bouncing H
 ep Cats
URL:https://www.tokyogigguide.com/index.php?option=com_jem&view=event&id=11
 542:valentines-blues-for-lonely-folks-&Itemid=1094
END:VEVENT
END:VCALENDAR
