BEGIN:VCALENDAR
VERSION:2.0
PRODID:-//104.152.168.27//NONSGML kigkonsult.se iCalcreator 2.20//
CALSCALE:GREGORIAN
METHOD:PUBLISH
X-WR-TIMEZONE:Asia/Tokyo
BEGIN:VEVENT
UID:event1159@Tokyo Gig Guide
DTSTAMP:20260422T105909Z
CATEGORIES:WTF?
DESCRIPTION:kito-mizukumi rouber\, maniaorgan\, optrum\nCategory: WTF?\nLin
 k: https://www.tokyogigguide.com/index.php?option=com_jem&view=event&id=11
 59:kito-mizukumi-rouber-maniaorgan-optrum&Itemid=1094\n
DTSTART:20090705T183000
DTEND:20090705T183000
LOCATION:Showboat\,Oak Hill Koenji B1F\, 3-17-2 Koenji Kita\,Koenji
SUMMARY:kito-mizukumi rouber\, maniaorgan\, optrum
URL:https://www.tokyogigguide.com/index.php?option=com_jem&view=event&id=11
 59:kito-mizukumi-rouber-maniaorgan-optrum&Itemid=1094
END:VEVENT
END:VCALENDAR
