BEGIN:VCALENDAR
VERSION:2.0
PRODID:-//104.152.168.27//NONSGML kigkonsult.se iCalcreator 2.20//
CALSCALE:GREGORIAN
METHOD:PUBLISH
X-WR-TIMEZONE:Asia/Tokyo
BEGIN:VEVENT
UID:event11636@Tokyo Gig Guide
DTSTAMP:20260425T124616Z
CATEGORIES:Alternative
DESCRIPTION:浅野達彦ソロライブ　“日曜の夕陽”　ゲスト: 高橋ピエール\nCategory: Alternative\nLink: htt
 ps://www.tokyogigguide.com/index.php?option=com_jem&view=event&id=11636:-&
 Itemid=1094\n
DTSTART:20150308T153000
DTEND:20150308T153000
LOCATION:Shichoshitsu (Jinbocho)\,3-8-5 Nishi Kanda\, Chiyodaku\, Tokyo\,Ji
 mbocho
SUMMARY:浅野達彦ソロライブ　“日曜の夕陽”　ゲスト: 高橋ピエール
URL:https://www.tokyogigguide.com/index.php?option=com_jem&view=event&id=11
 636:-&Itemid=1094
END:VEVENT
END:VCALENDAR
