BEGIN:VCALENDAR
VERSION:2.0
PRODID:-//104.152.168.27//NONSGML kigkonsult.se iCalcreator 2.20//
CALSCALE:GREGORIAN
METHOD:PUBLISH
X-WR-TIMEZONE:Asia/Tokyo
BEGIN:VEVENT
UID:event11750@Tokyo Gig Guide
DTSTAMP:20260425T143514Z
CATEGORIES:Improvised
DESCRIPTION:tamatoy project presents 'Irreversible Chance Meeting 6'\nCateg
 ory: Improvised\nLink: https://www.tokyogigguide.com/index.php?option=com_
 jem&view=event&id=11750:tamatoy-project-presents-qirreversible-chance-meet
 ing-6q&Itemid=1094\n
DTSTART:20150509T173000
DTEND:20150509T173000
LOCATION:Shichoshitsu (Jinbocho)\,3-8-5 Nishi Kanda\, Chiyodaku\, Tokyo\,Ji
 mbocho
SUMMARY:tamatoy project presents 'Irreversible Chance Meeting 6'
URL:https://www.tokyogigguide.com/index.php?option=com_jem&view=event&id=11
 750:tamatoy-project-presents-qirreversible-chance-meeting-6q&Itemid=1094
END:VEVENT
END:VCALENDAR
