BEGIN:VCALENDAR
VERSION:2.0
PRODID:-//104.152.168.27//NONSGML kigkonsult.se iCalcreator 2.20//
CALSCALE:GREGORIAN
METHOD:PUBLISH
X-WR-TIMEZONE:Asia/Tokyo
BEGIN:VEVENT
UID:event12069@Tokyo Gig Guide
DTSTAMP:20260425T035947Z
CATEGORIES:Unclassifiable
DESCRIPTION:Darren Moore\, Daysuke Takaoka\, biki\, Kei Tainaka\, Kayu Naka
 da\, Yuma Takeshita\nCategory: Unclassifiable\nLink: https://www.tokyogigg
 uide.com/index.php?option=com_jem&view=event&id=12069:darren-mooredaysuke-
 takaokabikikei-tainakakayu-nakadayuma-takeshita&Itemid=1094\n
DTSTART:20150613T190000
DTEND:20150613T190000
LOCATION:Shichoshitsu (Jinbocho)\,3-8-5 Nishi Kanda\, Chiyodaku\, Tokyo\,Ji
 mbocho
SUMMARY:Darren Moore\, Daysuke Takaoka\, biki\, Kei Tainaka\, Kayu Nakada\,
  Yuma Takeshita
URL:https://www.tokyogigguide.com/index.php?option=com_jem&view=event&id=12
 069:darren-mooredaysuke-takaokabikikei-tainakakayu-nakadayuma-takeshita&It
 emid=1094
END:VEVENT
END:VCALENDAR
