BEGIN:VCALENDAR
VERSION:2.0
PRODID:-//104.152.168.27//NONSGML kigkonsult.se iCalcreator 2.20//
CALSCALE:GREGORIAN
METHOD:PUBLISH
X-WR-TIMEZONE:Asia/Tokyo
BEGIN:VEVENT
UID:event12297@Tokyo Gig Guide
DTSTAMP:20260424T062901Z
CATEGORIES:Free Jazz
DESCRIPTION:BNT TRIO (Bennett - Nasuno - Trump)\nCategory: Free Jazz\nLink:
  https://www.tokyogigguide.com/index.php?option=com_jem&view=event&id=1229
 7:bnt-trio-bennett-nasuno-trump&Itemid=1094\n
DTSTART:20150803T190000
DTEND:20150803T190000
LOCATION:Hikari No Uma\,B1 1-23-17 Hyakunin-cho\, Shinjuku-ku\, Tokyo\,Okub
 o
SUMMARY:BNT TRIO (Bennett - Nasuno - Trump)
URL:https://www.tokyogigguide.com/index.php?option=com_jem&view=event&id=12
 297:bnt-trio-bennett-nasuno-trump&Itemid=1094
END:VEVENT
END:VCALENDAR
