BEGIN:VCALENDAR
VERSION:2.0
PRODID:-//104.152.168.27//NONSGML kigkonsult.se iCalcreator 2.20//
CALSCALE:GREGORIAN
METHOD:PUBLISH
X-WR-TIMEZONE:Asia/Tokyo
BEGIN:VEVENT
UID:event12321@Tokyo Gig Guide
DTSTAMP:20260424T234124Z
CATEGORIES:Experimental
DESCRIPTION:Wormhole + Aun\nCategory: Experimental\nLink: https://www.tokyo
 gigguide.com/index.php?option=com_jem&view=event&id=12321:wormhole--aun&It
 emid=1094\n
DTSTART:20150730T190000
DTEND:20150730T190000
LOCATION:Hikari No Uma\,B1 1-23-17 Hyakunin-cho\, Shinjuku-ku\, Tokyo\,Okub
 o
SUMMARY:Wormhole + Aun
URL:https://www.tokyogigguide.com/index.php?option=com_jem&view=event&id=12
 321:wormhole--aun&Itemid=1094
END:VEVENT
END:VCALENDAR
