BEGIN:VCALENDAR
VERSION:2.0
PRODID:-//104.152.168.27//NONSGML kigkonsult.se iCalcreator 2.20//
CALSCALE:GREGORIAN
METHOD:PUBLISH
X-WR-TIMEZONE:Asia/Tokyo
BEGIN:VEVENT
UID:event12459@Tokyo Gig Guide
DTSTAMP:20260424T031928Z
CATEGORIES:Electronic
DESCRIPTION:Hisapukyuu\,  Custom Mummy\, Hisapukyuu + Renick Bell\, Renick 
 Bell\nCategory: Electronic\nLink: https://www.tokyogigguide.com/index.php?
 option=com_jem&view=event&id=12459:hisapukyuu-custom-mummy-hisapukyuu--ren
 ick-bell-renick-bell&Itemid=1094\n
DTSTART:20150829T190000
DTEND:20150829T190000
LOCATION:Hikari No Uma\,B1 1-23-17 Hyakunin-cho\, Shinjuku-ku\, Tokyo\,Okub
 o
SUMMARY:Hisapukyuu\,  Custom Mummy\, Hisapukyuu + Renick Bell\, Renick Bell
URL:https://www.tokyogigguide.com/index.php?option=com_jem&view=event&id=12
 459:hisapukyuu-custom-mummy-hisapukyuu--renick-bell-renick-bell&Itemid=109
 4
END:VEVENT
END:VCALENDAR
