BEGIN:VCALENDAR
VERSION:2.0
PRODID:-//104.152.168.27//NONSGML kigkonsult.se iCalcreator 2.20//
CALSCALE:GREGORIAN
METHOD:PUBLISH
X-WR-TIMEZONE:Asia/Tokyo
BEGIN:VEVENT
UID:event12621@Tokyo Gig Guide
DTSTAMP:20260425T232640Z
CATEGORIES:Electronic
DESCRIPTION:日曜の夕陽: Tatsuhiko Asano\, Dorian\nCategory: Electronic\nLink: ht
 tps://www.tokyogigguide.com/index.php?option=com_jem&view=event&id=12621:-
 tatsuhiko-asano-dorian&Itemid=1094\n
DTSTART:20151004T153000
DTEND:20151004T153000
LOCATION:Shichoshitsu (Jinbocho)\,3-8-5 Nishi Kanda\, Chiyodaku\, Tokyo\,Ji
 mbocho
SUMMARY:日曜の夕陽: Tatsuhiko Asano\, Dorian
URL:https://www.tokyogigguide.com/index.php?option=com_jem&view=event&id=12
 621:-tatsuhiko-asano-dorian&Itemid=1094
END:VEVENT
END:VCALENDAR
