BEGIN:VCALENDAR
VERSION:2.0
PRODID:-//104.152.168.27//NONSGML kigkonsult.se iCalcreator 2.20//
CALSCALE:GREGORIAN
METHOD:PUBLISH
X-WR-TIMEZONE:Asia/Tokyo
BEGIN:VEVENT
UID:event12700@Tokyo Gig Guide
DTSTAMP:20260423T165959Z
CATEGORIES:Unclassifiable
DESCRIPTION:Albedo Fantastica with barae\, L'Extase Metallique\nCategory: U
 nclassifiable\nLink: https://www.tokyogigguide.com/index.php?option=com_je
 m&view=event&id=12700:albedo-fantastica-with-barae--hikari-no-uma-okubo&It
 emid=1094\n
DTSTART:20151119T190000
DTEND:20151119T190000
LOCATION:Hikari No Uma\,B1 1-23-17 Hyakunin-cho\, Shinjuku-ku\, Tokyo\,Okub
 o
SUMMARY:Albedo Fantastica with barae\, L'Extase Metallique
URL:https://www.tokyogigguide.com/index.php?option=com_jem&view=event&id=12
 700:albedo-fantastica-with-barae--hikari-no-uma-okubo&Itemid=1094
END:VEVENT
END:VCALENDAR
