BEGIN:VCALENDAR
VERSION:2.0
PRODID:-//104.152.168.27//NONSGML kigkonsult.se iCalcreator 2.20//
CALSCALE:GREGORIAN
METHOD:PUBLISH
X-WR-TIMEZONE:Asia/Tokyo
BEGIN:VEVENT
UID:event13116@Tokyo Gig Guide
DTSTAMP:20260424T143544Z
CATEGORIES:Psychedelic
DESCRIPTION:Nakatani Tatsuya + Kawabata Makoto\, Kumihara Tadashi + Hashimo
 to Takayuki + Tabata Mitsuru\nCategory: Psychedelic\nLink: https://www.tok
 yogigguide.com/index.php?option=com_jem&view=event&id=13116:nakatani-tatsu
 ya--kawabata-makoto-kumihara-tadashi--hashimoto-takayuki--tabata-mitsuru&I
 temid=1094\n
DTSTART:20160115T190000
DTEND:20160115T190000
LOCATION:Hikari No Uma\,B1 1-23-17 Hyakunin-cho\, Shinjuku-ku\, Tokyo\,Okub
 o
SUMMARY:Nakatani Tatsuya + Kawabata Makoto\, Kumihara Tadashi + Hashimoto T
 akayuki + Tabata Mitsuru
URL:https://www.tokyogigguide.com/index.php?option=com_jem&view=event&id=13
 116:nakatani-tatsuya--kawabata-makoto-kumihara-tadashi--hashimoto-takayuki
 --tabata-mitsuru&Itemid=1094
END:VEVENT
END:VCALENDAR
