BEGIN:VCALENDAR
VERSION:2.0
PRODID:-//104.152.168.27//NONSGML kigkonsult.se iCalcreator 2.20//
CALSCALE:GREGORIAN
METHOD:PUBLISH
X-WR-TIMEZONE:Asia/Tokyo
BEGIN:VEVENT
UID:event13299@Tokyo Gig Guide
DTSTAMP:20260426T025846Z
CATEGORIES:Improvised
DESCRIPTION:Tetuzi Akiyama\,Yoko Ikeda\, Ryutaro Endo\, Kyosuke Terada\, Hi
 roshi Kato\nCategory: Improvised\nLink: https://www.tokyogigguide.com/inde
 x.php?option=com_jem&view=event&id=13299:tetuzi-akiyama-yoko-ikeda-ryutaro
 -endo-kyosuke-terada-hiroshi-kato&Itemid=1094\n
DTSTART:20160208T193000
DTEND:20160208T193000
LOCATION:Hikari No Uma\,B1 1-23-17 Hyakunin-cho\, Shinjuku-ku\, Tokyo\,Okub
 o
SUMMARY:Tetuzi Akiyama\,Yoko Ikeda\, Ryutaro Endo\, Kyosuke Terada\, Hirosh
 i Kato
URL:https://www.tokyogigguide.com/index.php?option=com_jem&view=event&id=13
 299:tetuzi-akiyama-yoko-ikeda-ryutaro-endo-kyosuke-terada-hiroshi-kato&Ite
 mid=1094
END:VEVENT
END:VCALENDAR
