BEGIN:VCALENDAR
VERSION:2.0
PRODID:-//104.152.168.27//NONSGML kigkonsult.se iCalcreator 2.20//
CALSCALE:GREGORIAN
METHOD:PUBLISH
X-WR-TIMEZONE:Asia/Tokyo
BEGIN:VEVENT
UID:event13526@Tokyo Gig Guide
DTSTAMP:20260426T034438Z
CATEGORIES:All Mix\, Avant garde\, Dance\, Experimental\, Improvised
DESCRIPTION:hollow between man and woman - 3 duos\nCategory: All Mix\, Avan
 t garde\, Dance\, Experimental\, Improvised\nLink: https://www.tokyogiggui
 de.com/index.php?option=com_jem&view=event&id=13526:hollow-between-man-and
 -woman-3-duos&Itemid=1094\n
DTSTART:20160406T190000
DTEND:20160406T190000
LOCATION:Hikari No Uma\,B1 1-23-17 Hyakunin-cho\, Shinjuku-ku\, Tokyo\,Okub
 o
SUMMARY:hollow between man and woman - 3 duos
URL:https://www.tokyogigguide.com/index.php?option=com_jem&view=event&id=13
 526:hollow-between-man-and-woman-3-duos&Itemid=1094
END:VEVENT
END:VCALENDAR
