BEGIN:VCALENDAR
VERSION:2.0
PRODID:-//104.152.168.27//NONSGML kigkonsult.se iCalcreator 2.20//
CALSCALE:GREGORIAN
METHOD:PUBLISH
X-WR-TIMEZONE:Asia/Tokyo
BEGIN:VEVENT
UID:event138@Tokyo Gig Guide
DTSTAMP:20260425T185412Z
CATEGORIES:Experimental
DESCRIPTION:KTL\, GALLHAMMER\nCategory: Experimental\nLink: https://www.tok
 yogigguide.com/index.php?option=com_jem&view=event&id=138:ktl-gallhammer&I
 temid=1094\n
DTSTART:20080912T183000
DTEND:20080912T183000
LOCATION:Earthdom\,Lisbon Bldg B1F\, 3-32-3 Okubo\, Shinjuku-ku\,Okubo
SUMMARY:KTL\, GALLHAMMER
URL:https://www.tokyogigguide.com/index.php?option=com_jem&view=event&id=13
 8:ktl-gallhammer&Itemid=1094
END:VEVENT
END:VCALENDAR
