BEGIN:VCALENDAR
VERSION:2.0
PRODID:-//104.152.168.27//NONSGML kigkonsult.se iCalcreator 2.20//
CALSCALE:GREGORIAN
METHOD:PUBLISH
X-WR-TIMEZONE:Asia/Tokyo
BEGIN:VEVENT
UID:event13962@Tokyo Gig Guide
DTSTAMP:20260422T111250Z
CATEGORIES:Experimental\, Free Jazz\, Improvised\, Instrumental\, WTF?
DESCRIPTION:Naoji Kondo\, Mikio Fukushima\, Hayami Mizobe & Fumito Sugo qua
 rtet\nCategory: Experimental\, Free Jazz\, Improvised\, Instrumental\, WTF
 ?\nLink: https://www.tokyogigguide.com/index.php?option=com_jem&view=event
 &id=13962:naoji-kondo-bariton-sax-mikio-fukushima-alto-sax-hayami-mizobe-w
 -bass-fumito-sugo-drums-quartet&Itemid=1094\n
DTSTART:20160727T190000
DTEND:20160727T190000
LOCATION:Hikari No Uma\,B1 1-23-17 Hyakunin-cho\, Shinjuku-ku\, Tokyo\,Okub
 o
SUMMARY:Naoji Kondo\, Mikio Fukushima\, Hayami Mizobe & Fumito Sugo quartet
URL:https://www.tokyogigguide.com/index.php?option=com_jem&view=event&id=13
 962:naoji-kondo-bariton-sax-mikio-fukushima-alto-sax-hayami-mizobe-w-bass-
 fumito-sugo-drums-quartet&Itemid=1094
END:VEVENT
END:VCALENDAR
