BEGIN:VCALENDAR
VERSION:2.0
PRODID:-//104.152.168.27//NONSGML kigkonsult.se iCalcreator 2.20//
CALSCALE:GREGORIAN
METHOD:PUBLISH
X-WR-TIMEZONE:Asia/Tokyo
BEGIN:VEVENT
UID:event14004@Tokyo Gig Guide
DTSTAMP:20260426T011707Z
CATEGORIES:Psychedelic
DESCRIPTION:GEOFF LEIGH + KAWABATA MAKOTO\nCategory: Psychedelic\nLink: htt
 ps://www.tokyogigguide.com/index.php?option=com_jem&view=event&id=14004:ge
 off-leigh-kawabata-makoto&Itemid=1094\n
DTSTART:20160619T190000
DTEND:20160619T190000
LOCATION:Hikari No Uma\,B1 1-23-17 Hyakunin-cho\, Shinjuku-ku\, Tokyo\,Okub
 o
SUMMARY:GEOFF LEIGH + KAWABATA MAKOTO
URL:https://www.tokyogigguide.com/index.php?option=com_jem&view=event&id=14
 004:geoff-leigh-kawabata-makoto&Itemid=1094
END:VEVENT
END:VCALENDAR
