BEGIN:VCALENDAR
VERSION:2.0
PRODID:-//104.152.168.27//NONSGML kigkonsult.se iCalcreator 2.20//
CALSCALE:GREGORIAN
METHOD:PUBLISH
X-WR-TIMEZONE:Asia/Tokyo
BEGIN:VEVENT
UID:event14071@Tokyo Gig Guide
DTSTAMP:20260424T062608Z
CATEGORIES:Experimental\, Abstract\, Avant garde\, Improvised\, Other
DESCRIPTION:Teruyuki Oshima + Yuma Takeshita + Takeshi Mori\, Ryuichi Yoshi
 da + Akiko Nakayama\nCategory: Experimental\, Abstract\, Avant garde\, Imp
 rovised\, Other\nLink: https://www.tokyogigguide.com/index.php?option=com_
 jem&view=event&id=14071:teruyuki-oshima-yuma-takeshita-takeshi-mori-ryuich
 i-yoshida-akiko-nakayama&Itemid=1094\n
DTSTART:20160620T193000
DTEND:20160620T193000
LOCATION:Shichoshitsu (Jinbocho)\,3-8-5 Nishi Kanda\, Chiyodaku\, Tokyo\,Ji
 mbocho
SUMMARY:Teruyuki Oshima + Yuma Takeshita + Takeshi Mori\, Ryuichi Yoshida +
  Akiko Nakayama
URL:https://www.tokyogigguide.com/index.php?option=com_jem&view=event&id=14
 071:teruyuki-oshima-yuma-takeshita-takeshi-mori-ryuichi-yoshida-akiko-naka
 yama&Itemid=1094
END:VEVENT
END:VCALENDAR
