BEGIN:VCALENDAR
VERSION:2.0
PRODID:-//104.152.168.27//NONSGML kigkonsult.se iCalcreator 2.20//
CALSCALE:GREGORIAN
METHOD:PUBLISH
X-WR-TIMEZONE:Asia/Tokyo
BEGIN:VEVENT
UID:event14159@Tokyo Gig Guide
DTSTAMP:20260422T135456Z
CATEGORIES:Other
DESCRIPTION:S&H meets Jordan Smith\nCategory: Other\nLink: https://www.toky
 ogigguide.com/index.php?option=com_jem&view=event&id=14159:s-h-meets-jorda
 n-smith&Itemid=1094\n
DTSTART:20160630T190000
DTEND:20160630T190000
LOCATION:Hikari No Uma\,B1 1-23-17 Hyakunin-cho\, Shinjuku-ku\, Tokyo\,Okub
 o
SUMMARY:S&H meets Jordan Smith
URL:https://www.tokyogigguide.com/index.php?option=com_jem&view=event&id=14
 159:s-h-meets-jordan-smith&Itemid=1094
END:VEVENT
END:VCALENDAR
