BEGIN:VCALENDAR
VERSION:2.0
PRODID:-//104.152.168.27//NONSGML kigkonsult.se iCalcreator 2.20//
CALSCALE:GREGORIAN
METHOD:PUBLISH
X-WR-TIMEZONE:Asia/Tokyo
BEGIN:VEVENT
UID:event14573@Tokyo Gig Guide
DTSTAMP:20260424T200535Z
CATEGORIES:Avant garde\, Dance\, Experimental\, Improvised\, Noise
DESCRIPTION:En Tée\, Janmer Shimamura\, Maresuke\, Shigeyo Honda\, Margatic
 a\, Tadasho Kumihara\, Houhi Suzuki\nCategory: Avant garde\, Dance\, Exper
 imental\, Improvised\, Noise\nLink: https://www.tokyogigguide.com/index.ph
 p?option=com_jem&view=event&id=14573:presents-the-fire-next-time&Itemid=10
 94\n
DTSTART:20161004T190000
DTEND:20161004T190000
LOCATION:Hikari No Uma\,B1 1-23-17 Hyakunin-cho\, Shinjuku-ku\, Tokyo\,Okub
 o
SUMMARY:En Tée\, Janmer Shimamura\, Maresuke\, Shigeyo Honda\, Margatica\, 
 Tadasho Kumihara\, Houhi Suzuki
URL:https://www.tokyogigguide.com/index.php?option=com_jem&view=event&id=14
 573:presents-the-fire-next-time&Itemid=1094
END:VEVENT
END:VCALENDAR
