BEGIN:VCALENDAR
VERSION:2.0
PRODID:-//104.152.168.27//NONSGML kigkonsult.se iCalcreator 2.20//
CALSCALE:GREGORIAN
METHOD:PUBLISH
X-WR-TIMEZONE:Asia/Tokyo
BEGIN:VEVENT
UID:event14780@Tokyo Gig Guide
DTSTAMP:20260423T180313Z
CATEGORIES:Experimental
DESCRIPTION:Albedo Fantastica\, Sosuikyo\nCategory: Experimental\nLink: htt
 ps://www.tokyogigguide.com/index.php?option=com_jem&view=event&id=14780:al
 bedo-fantastica-sosuikyo&Itemid=1094\n
DTSTART:20161029T190000
DTEND:20161029T190000
LOCATION:Hikari No Uma\,B1 1-23-17 Hyakunin-cho\, Shinjuku-ku\, Tokyo\,Okub
 o
SUMMARY:Albedo Fantastica\, Sosuikyo
URL:https://www.tokyogigguide.com/index.php?option=com_jem&view=event&id=14
 780:albedo-fantastica-sosuikyo&Itemid=1094
END:VEVENT
END:VCALENDAR
