BEGIN:VCALENDAR
VERSION:2.0
PRODID:-//104.152.168.27//NONSGML kigkonsult.se iCalcreator 2.20//
CALSCALE:GREGORIAN
METHOD:PUBLISH
X-WR-TIMEZONE:Asia/Tokyo
BEGIN:VEVENT
UID:event14971@Tokyo Gig Guide
DTSTAMP:20260421T132824Z
CATEGORIES:Blues\, Instrumental\, Jazz\, Rock
DESCRIPTION:Mizu Mari Session #13\nCategory: Blues\, Instrumental\, Jazz\, 
 Rock\nLink: https://www.tokyogigguide.com/index.php?option=com_jem&view=ev
 ent&id=14971:mizu-mari-session-13&Itemid=1094\n
DTSTART:20161121T180000
DTEND:20161121T180000
LOCATION:Ongakushitsu DX\,B1F 3-20-4 Nishiwaseda Shinjuku-ku Tokyo\,Takadan
 obaba
SUMMARY:Mizu Mari Session #13
URL:https://www.tokyogigguide.com/index.php?option=com_jem&view=event&id=14
 971:mizu-mari-session-13&Itemid=1094
END:VEVENT
END:VCALENDAR
