BEGIN:VCALENDAR
VERSION:2.0
PRODID:-//104.152.168.27//NONSGML kigkonsult.se iCalcreator 2.20//
CALSCALE:GREGORIAN
METHOD:PUBLISH
X-WR-TIMEZONE:Asia/Tokyo
BEGIN:VEVENT
UID:event15413@Tokyo Gig Guide
DTSTAMP:20260420T204548Z
CATEGORIES:Instrumental\, Progressive
DESCRIPTION:ERA (Akihisa Tsuboi\, Natsuki Kido)\nCategory: Instrumental\, P
 rogressive\nLink: https://www.tokyogigguide.com/index.php?option=com_jem&v
 iew=event&id=15413:era-akihisa-tsuboi-natsuki-kido&Itemid=1094\n
DTSTART:20170204T180000
DTEND:20170204T180000
LOCATION:Cabin\,5F\, 2-7-23\, Nakacho\, Atsugi-shi\, Kanagawa\,Atsugi
SUMMARY:ERA (Akihisa Tsuboi\, Natsuki Kido)
URL:https://www.tokyogigguide.com/index.php?option=com_jem&view=event&id=15
 413:era-akihisa-tsuboi-natsuki-kido&Itemid=1094
END:VEVENT
END:VCALENDAR
