BEGIN:VCALENDAR
VERSION:2.0
PRODID:-//104.152.168.27//NONSGML kigkonsult.se iCalcreator 2.20//
CALSCALE:GREGORIAN
METHOD:PUBLISH
X-WR-TIMEZONE:Asia/Tokyo
BEGIN:VEVENT
UID:event15423@Tokyo Gig Guide
DTSTAMP:20260422T212604Z
CATEGORIES:Mixed Genre
DESCRIPTION:Inryo-fuen\, TSUTAKI Shunji from TOTSUZEN DANBALL + YOSHIMOTO Y
 umiko\, HASHIMOTO Takayuki\nCategory: Mixed Genre\nLink: https://www.tokyo
 gigguide.com/index.php?option=com_jem&view=event&id=15423:inryo-fuen-tsuta
 ki-shunji-from-totsuzen-danball-yoshimoto-yumiko-hashimoto-takayuki&Itemid
 =1094\n
DTSTART:20170128T190000
DTEND:20170128T190000
LOCATION:Hikari No Uma\,B1 1-23-17 Hyakunin-cho\, Shinjuku-ku\, Tokyo\,Okub
 o
SUMMARY:Inryo-fuen\, TSUTAKI Shunji from TOTSUZEN DANBALL + YOSHIMOTO Yumik
 o\, HASHIMOTO Takayuki
URL:https://www.tokyogigguide.com/index.php?option=com_jem&view=event&id=15
 423:inryo-fuen-tsutaki-shunji-from-totsuzen-danball-yoshimoto-yumiko-hashi
 moto-takayuki&Itemid=1094
END:VEVENT
END:VCALENDAR
