BEGIN:VCALENDAR
VERSION:2.0
PRODID:-//104.152.168.27//NONSGML kigkonsult.se iCalcreator 2.20//
CALSCALE:GREGORIAN
METHOD:PUBLISH
X-WR-TIMEZONE:Asia/Tokyo
BEGIN:VEVENT
UID:event15592@Tokyo Gig Guide
DTSTAMP:20260426T043130Z
CATEGORIES:Psychedelic
DESCRIPTION:Tatsuya Natatani + Makoto Kawabata\, a qui avec Gabriel + Mitsu
 ko☆Tabata\nCategory: Psychedelic\nLink: https://www.tokyogigguide.com/inde
 x.php?option=com_jem&view=event&id=15592:tatsuya-natatani-makoto-kawabata-
 a-qui-avec-gabriel-mitsuko-tabata&Itemid=1094\n
DTSTART:20170113T190000
DTEND:20170113T190000
LOCATION:Hikari No Uma\,B1 1-23-17 Hyakunin-cho\, Shinjuku-ku\, Tokyo\,Okub
 o
SUMMARY:Tatsuya Natatani + Makoto Kawabata\, a qui avec Gabriel + Mitsuko☆T
 abata
URL:https://www.tokyogigguide.com/index.php?option=com_jem&view=event&id=15
 592:tatsuya-natatani-makoto-kawabata-a-qui-avec-gabriel-mitsuko-tabata&Ite
 mid=1094
END:VEVENT
END:VCALENDAR
