BEGIN:VCALENDAR
VERSION:2.0
PRODID:-//104.152.168.27//NONSGML kigkonsult.se iCalcreator 2.20//
CALSCALE:GREGORIAN
METHOD:PUBLISH
X-WR-TIMEZONE:Asia/Tokyo
BEGIN:VEVENT
UID:event15603@Tokyo Gig Guide
DTSTAMP:20260426T033547Z
CATEGORIES:Avant garde\, Free Jazz\, Improvised\, Instrumental\, Jazz
DESCRIPTION:福島ピート幹夫 & 近藤直司 & 溝辺隼巳 & 須郷史人 quartet\nCategory: Avant garde\, F
 ree Jazz\, Improvised\, Instrumental\, Jazz\nLink: https://www.tokyogiggui
 de.com/index.php?option=com_jem&view=event&id=15603:quartet&Itemid=1094\n
DTSTART:20170110T190000
DTEND:20170110T190000
LOCATION:Hikari No Uma\,B1 1-23-17 Hyakunin-cho\, Shinjuku-ku\, Tokyo\,Okub
 o
SUMMARY:福島ピート幹夫 & 近藤直司 & 溝辺隼巳 & 須郷史人 quartet
URL:https://www.tokyogigguide.com/index.php?option=com_jem&view=event&id=15
 603:quartet&Itemid=1094
END:VEVENT
END:VCALENDAR
