BEGIN:VCALENDAR
VERSION:2.0
PRODID:-//104.152.168.27//NONSGML kigkonsult.se iCalcreator 2.20//
CALSCALE:GREGORIAN
METHOD:PUBLISH
X-WR-TIMEZONE:Asia/Tokyo
BEGIN:VEVENT
UID:event15803@Tokyo Gig Guide
DTSTAMP:20260423T150507Z
CATEGORIES:Jazz
DESCRIPTION:Natsuki Kido\, Shikou Ito\nCategory: Jazz\nLink: https://www.to
 kyogigguide.com/index.php?option=com_jem&view=event&id=15803:natsuki-kido-
 shikou-ito&Itemid=1094\n
DTSTART:20170221T183000
DTEND:20170221T183000
LOCATION:Dolphy\,2-17-4-2F Miyagawa-cho\, Naka-ku\, Yokohama\,Yokohama
SUMMARY:Natsuki Kido\, Shikou Ito
URL:https://www.tokyogigguide.com/index.php?option=com_jem&view=event&id=15
 803:natsuki-kido-shikou-ito&Itemid=1094
END:VEVENT
END:VCALENDAR
