BEGIN:VCALENDAR
VERSION:2.0
PRODID:-//104.152.168.27//NONSGML kigkonsult.se iCalcreator 2.20//
CALSCALE:GREGORIAN
METHOD:PUBLISH
X-WR-TIMEZONE:Asia/Tokyo
BEGIN:VEVENT
UID:event15878@Tokyo Gig Guide
DTSTAMP:20260422T102836Z
CATEGORIES:Acoustic\, Instrumental\, Jazz
DESCRIPTION:THE DUO (Daisuke Suzuki\, Natsuki Kido) + Hiroshi Yoshino\, Tom
 ohiro Yahiro\nCategory: Acoustic\, Instrumental\, Jazz\nLink: https://www.
 tokyogigguide.com/index.php?option=com_jem&view=event&id=15878:the-duo-dai
 suke-suzuki-natsuki-kido-hiroshi-yoshino-tomohiro-yahiro&Itemid=1094\n
DTSTART:20170305T180000
DTEND:20170305T180000
LOCATION:Dolphy\,2-17-4-2F Miyagawa-cho\, Naka-ku\, Yokohama\,Yokohama
SUMMARY:THE DUO (Daisuke Suzuki\, Natsuki Kido) + Hiroshi Yoshino\, Tomohir
 o Yahiro
URL:https://www.tokyogigguide.com/index.php?option=com_jem&view=event&id=15
 878:the-duo-daisuke-suzuki-natsuki-kido-hiroshi-yoshino-tomohiro-yahiro&It
 emid=1094
END:VEVENT
END:VCALENDAR
