BEGIN:VCALENDAR
VERSION:2.0
PRODID:-//104.152.168.27//NONSGML kigkonsult.se iCalcreator 2.20//
CALSCALE:GREGORIAN
METHOD:PUBLISH
X-WR-TIMEZONE:Asia/Tokyo
BEGIN:VEVENT
UID:event16074@Tokyo Gig Guide
DTSTAMP:20260421T151541Z
CATEGORIES:Alternative\, Avant garde\, Instrumental\, Rock
DESCRIPTION:COIL (Natsuki Kido\, Takeharu Hayakawa\, Tsutomu Nakayama\, Eij
 i Tanaka)\nCategory: Alternative\, Avant garde\, Instrumental\, Rock\nLink
 : https://www.tokyogigguide.com/index.php?option=com_jem&view=event&id=160
 74:coil-natsuki-kido-takeharu-hayakawa-tsutomu-nakayama-eiji-tanaka&Itemid
 =1094\n
DTSTART:20170415T170000
DTEND:20170415T170000
LOCATION:Ongakushitsu DX\,B1F 3-20-4 Nishiwaseda Shinjuku-ku Tokyo\,Takadan
 obaba
SUMMARY:COIL (Natsuki Kido\, Takeharu Hayakawa\, Tsutomu Nakayama\, Eiji Ta
 naka)
URL:https://www.tokyogigguide.com/index.php?option=com_jem&view=event&id=16
 074:coil-natsuki-kido-takeharu-hayakawa-tsutomu-nakayama-eiji-tanaka&Itemi
 d=1094
END:VEVENT
END:VCALENDAR
