BEGIN:VCALENDAR
VERSION:2.0
PRODID:-//104.152.168.27//NONSGML kigkonsult.se iCalcreator 2.20//
CALSCALE:GREGORIAN
METHOD:PUBLISH
X-WR-TIMEZONE:Asia/Tokyo
BEGIN:VEVENT
UID:event16202@Tokyo Gig Guide
DTSTAMP:20260425T010058Z
CATEGORIES:Experimental\, Free Jazz\, Improvised\, Instrumental\, Jazz
DESCRIPTION:Improvisation Quintet\nCategory: Experimental\, Free Jazz\, Imp
 rovised\, Instrumental\, Jazz\nLink: https://www.tokyogigguide.com/index.p
 hp?option=com_jem&view=event&id=16202:improvised-quintet&Itemid=1094\n
DTSTART:20170330T190000
DTEND:20170330T190000
LOCATION:Hikari No Uma\,B1 1-23-17 Hyakunin-cho\, Shinjuku-ku\, Tokyo\,Okub
 o
SUMMARY:Improvisation Quintet
URL:https://www.tokyogigguide.com/index.php?option=com_jem&view=event&id=16
 202:improvised-quintet&Itemid=1094
END:VEVENT
END:VCALENDAR
