BEGIN:VCALENDAR
VERSION:2.0
PRODID:-//104.152.168.27//NONSGML kigkonsult.se iCalcreator 2.20//
CALSCALE:GREGORIAN
METHOD:PUBLISH
X-WR-TIMEZONE:Asia/Tokyo
BEGIN:VEVENT
UID:event16494@Tokyo Gig Guide
DTSTAMP:20260425T115906Z
CATEGORIES:Alternative\, Avant garde\, Improvised\, Progressive
DESCRIPTION:PYN (Yann Pitard\, Mitsuru Nasuno\, Taysuya Yoshida)\nCategory:
  Alternative\, Avant garde\, Improvised\, Progressive\nLink: https://www.t
 okyogigguide.com/index.php?option=com_jem&view=event&id=16494:pyn-yann-pit
 ard-mitsuru-nasuno-taysuya-yoshida&Itemid=1094\n
DTSTART:20170514T123000
DTEND:20170514T123000
LOCATION:Hikari No Uma\,B1 1-23-17 Hyakunin-cho\, Shinjuku-ku\, Tokyo\,Okub
 o
SUMMARY:PYN (Yann Pitard\, Mitsuru Nasuno\, Taysuya Yoshida)
URL:https://www.tokyogigguide.com/index.php?option=com_jem&view=event&id=16
 494:pyn-yann-pitard-mitsuru-nasuno-taysuya-yoshida&Itemid=1094
END:VEVENT
END:VCALENDAR
