BEGIN:VCALENDAR
VERSION:2.0
PRODID:-//104.152.168.27//NONSGML kigkonsult.se iCalcreator 2.20//
CALSCALE:GREGORIAN
METHOD:PUBLISH
X-WR-TIMEZONE:Asia/Tokyo
BEGIN:VEVENT
UID:event16524@Tokyo Gig Guide
DTSTAMP:20260424T015243Z
CATEGORIES:Rock
DESCRIPTION:à qui avec Gabriel\, Doronco + Raliha with Koji Simura\, Hideo 
 Miki\, MIMINOKOTO\nCategory: Rock\nLink: https://www.tokyogigguide.com/ind
 ex.php?option=com_jem&view=event&id=16524:a-qui-avec-gabriel-doronco-ralih
 a-with-koji-simura-hideo-miki-miminokoto&Itemid=1094\n
DTSTART:20170506T190000
DTEND:20170506T190000
LOCATION:Hikari No Uma\,B1 1-23-17 Hyakunin-cho\, Shinjuku-ku\, Tokyo\,Okub
 o
SUMMARY:à qui avec Gabriel\, Doronco + Raliha with Koji Simura\, Hideo Miki
 \, MIMINOKOTO
URL:https://www.tokyogigguide.com/index.php?option=com_jem&view=event&id=16
 524:a-qui-avec-gabriel-doronco-raliha-with-koji-simura-hideo-miki-miminoko
 to&Itemid=1094
END:VEVENT
END:VCALENDAR
