BEGIN:VCALENDAR
VERSION:2.0
PRODID:-//104.152.168.27//NONSGML kigkonsult.se iCalcreator 2.20//
CALSCALE:GREGORIAN
METHOD:PUBLISH
X-WR-TIMEZONE:Asia/Tokyo
BEGIN:VEVENT
UID:event16740@Tokyo Gig Guide
DTSTAMP:20260426T031348Z
CATEGORIES:Experimental
DESCRIPTION:Chaotic Call: TNBT\, 永田壮一郎 (Kijima Sound System)\, 柳本小百合\nCateg
 ory: Experimental\nLink: https://www.tokyogigguide.com/index.php?option=co
 m_jem&view=event&id=16740:tnbt-at-chaotic-call&Itemid=1094\n
DTSTART:20170521T130000
DTEND:20170521T130000
LOCATION:Shichoshitsu (Jinbocho)\,3-8-5 Nishi Kanda\, Chiyodaku\, Tokyo\,Ji
 mbocho
SUMMARY:Chaotic Call: TNBT\, 永田壮一郎 (Kijima Sound System)\, 柳本小百合
URL:https://www.tokyogigguide.com/index.php?option=com_jem&view=event&id=16
 740:tnbt-at-chaotic-call&Itemid=1094
END:VEVENT
END:VCALENDAR
