BEGIN:VCALENDAR
VERSION:2.0
PRODID:-//104.152.168.27//NONSGML kigkonsult.se iCalcreator 2.20//
CALSCALE:GREGORIAN
METHOD:PUBLISH
X-WR-TIMEZONE:Asia/Tokyo
BEGIN:VEVENT
UID:event16943@Tokyo Gig Guide
DTSTAMP:20260421T221826Z
CATEGORIES:Acoustic\, Jazz
DESCRIPTION:Natsuki Kido\, Hitomi Nishiyama\nCategory: Acoustic\, Jazz\nLin
 k: https://www.tokyogigguide.com/index.php?option=com_jem&view=event&id=16
 943:natsuki-kido-hitomi-nishiyama&Itemid=1094\n
DTSTART:20170613T183000
DTEND:20170613T183000
LOCATION:Dolphy\,2-17-4-2F Miyagawa-cho\, Naka-ku\, Yokohama\,Yokohama
SUMMARY:Natsuki Kido\, Hitomi Nishiyama
URL:https://www.tokyogigguide.com/index.php?option=com_jem&view=event&id=16
 943:natsuki-kido-hitomi-nishiyama&Itemid=1094
END:VEVENT
END:VCALENDAR
