BEGIN:VCALENDAR
VERSION:2.0
PRODID:-//104.152.168.27//NONSGML kigkonsult.se iCalcreator 2.20//
CALSCALE:GREGORIAN
METHOD:PUBLISH
X-WR-TIMEZONE:Asia/Tokyo
BEGIN:VEVENT
UID:event17804@Tokyo Gig Guide
DTSTAMP:20260421T004428Z
CATEGORIES:Acoustic\, Pop
DESCRIPTION:EPO\, Natsuki Kido\nCategory: Acoustic\, Pop\nLink: https://www
 .tokyogigguide.com/index.php?option=com_jem&view=event&id=17804:epo-natsuk
 i-kido&Itemid=1094\n
DTSTART:20171022T180000
DTEND:20171022T180000
LOCATION:Dolphy\,2-17-4-2F Miyagawa-cho\, Naka-ku\, Yokohama\,Yokohama
SUMMARY:EPO\, Natsuki Kido
URL:https://www.tokyogigguide.com/index.php?option=com_jem&view=event&id=17
 804:epo-natsuki-kido&Itemid=1094
END:VEVENT
END:VCALENDAR
