BEGIN:VCALENDAR
VERSION:2.0
PRODID:-//104.152.168.27//NONSGML kigkonsult.se iCalcreator 2.20//
CALSCALE:GREGORIAN
METHOD:PUBLISH
X-WR-TIMEZONE:Asia/Tokyo
BEGIN:VEVENT
UID:event17867@Tokyo Gig Guide
DTSTAMP:20260426T011634Z
CATEGORIES:Acoustic\, Instrumental\, Jazz
DESCRIPTION:Natsuki Kido\, Hitomi Nishimaya\nCategory: Acoustic\, Instrumen
 tal\, Jazz\nLink: https://www.tokyogigguide.com/index.php?option=com_jem&v
 iew=event&id=17867:natsuki-kido-hitomi-nishimaya&Itemid=1094\n
DTSTART:20171110T193000
DTEND:20171110T193000
LOCATION:Shichoshitsu (Jinbocho)\,3-8-5 Nishi Kanda\, Chiyodaku\, Tokyo\,Ji
 mbocho
SUMMARY:Natsuki Kido\, Hitomi Nishimaya
URL:https://www.tokyogigguide.com/index.php?option=com_jem&view=event&id=17
 867:natsuki-kido-hitomi-nishimaya&Itemid=1094
END:VEVENT
END:VCALENDAR
