BEGIN:VCALENDAR
VERSION:2.0
PRODID:-//104.152.168.27//NONSGML kigkonsult.se iCalcreator 2.20//
CALSCALE:GREGORIAN
METHOD:PUBLISH
X-WR-TIMEZONE:Asia/Tokyo
BEGIN:VEVENT
UID:event17951@Tokyo Gig Guide
DTSTAMP:20260423T091103Z
CATEGORIES:Acoustic\, Experimental\, Improvised
DESCRIPTION:Akiko Hotaka + Rutsuko Kumasaka\, Shun Owada\, Daysuke Takaoka 
 + Mitsuhisa Sakaguchi\nCategory: Acoustic\, Experimental\, Improvised\nLin
 k: https://www.tokyogigguide.com/index.php?option=com_jem&view=event&id=17
 951:songs-and-improvisation&Itemid=1094\n
DTSTART:20171015T183000
DTEND:20171015T183000
LOCATION:Shichoshitsu (Jinbocho)\,3-8-5 Nishi Kanda\, Chiyodaku\, Tokyo\,Ji
 mbocho
SUMMARY:Akiko Hotaka + Rutsuko Kumasaka\, Shun Owada\, Daysuke Takaoka + Mi
 tsuhisa Sakaguchi
URL:https://www.tokyogigguide.com/index.php?option=com_jem&view=event&id=17
 951:songs-and-improvisation&Itemid=1094
END:VEVENT
END:VCALENDAR
