BEGIN:VCALENDAR
VERSION:2.0
PRODID:-//104.152.168.27//NONSGML kigkonsult.se iCalcreator 2.20//
CALSCALE:GREGORIAN
METHOD:PUBLISH
X-WR-TIMEZONE:Asia/Tokyo
BEGIN:VEVENT
UID:event18033@Tokyo Gig Guide
DTSTAMP:20260420T181932Z
CATEGORIES:Acoustic\, All Mix\, Instrumental
DESCRIPTION:The DUO (Natsuki Kido\, Daisuke Suzuki) + Hiroshi Yoshino\nCate
 gory: Acoustic\, All Mix\, Instrumental\nLink: https://www.tokyogigguide.c
 om/index.php?option=com_jem&view=event&id=18033:the-duo-natsuki-kido-daisu
 ke-suzuki-horoshi-yoshino&Itemid=1094\n
DTSTART:20171029T180000
DTEND:20171029T180000
LOCATION:Dolphy\,2-17-4-2F Miyagawa-cho\, Naka-ku\, Yokohama\,Yokohama
SUMMARY:The DUO (Natsuki Kido\, Daisuke Suzuki) + Hiroshi Yoshino
URL:https://www.tokyogigguide.com/index.php?option=com_jem&view=event&id=18
 033:the-duo-natsuki-kido-daisuke-suzuki-horoshi-yoshino&Itemid=1094
END:VEVENT
END:VCALENDAR
