BEGIN:VCALENDAR
VERSION:2.0
PRODID:-//104.152.168.27//NONSGML kigkonsult.se iCalcreator 2.20//
CALSCALE:GREGORIAN
METHOD:PUBLISH
X-WR-TIMEZONE:Asia/Tokyo
BEGIN:VEVENT
UID:event18544@Tokyo Gig Guide
DTSTAMP:20260421T180604Z
CATEGORIES:Alternative\, Blues\, Hard Rock
DESCRIPTION:Masatoshi Mizuno\, Natsuki Kido\, Mari Masutani\nCategory: Alte
 rnative\, Blues\, Hard Rock\nLink: https://www.tokyogigguide.com/index.php
 ?option=com_jem&view=event&id=18544:masatoshi-mizuno-natsuki-kido-mari-mas
 utani&Itemid=1094\n
DTSTART:20180129T183000
DTEND:20180129T183000
LOCATION:Ongakushitsu DX\,B1F 3-20-4 Nishiwaseda Shinjuku-ku Tokyo\,Takadan
 obaba
SUMMARY:Masatoshi Mizuno\, Natsuki Kido\, Mari Masutani
URL:https://www.tokyogigguide.com/index.php?option=com_jem&view=event&id=18
 544:masatoshi-mizuno-natsuki-kido-mari-masutani&Itemid=1094
END:VEVENT
END:VCALENDAR
